BEGIN:VCALENDAR
VERSION:2.0
PRODID:-//Monterey Friends of CG Jung - ECPv6.15.13//NONSGML v1.0//EN
CALSCALE:GREGORIAN
METHOD:PUBLISH
X-ORIGINAL-URL:http://jungmonterey.org
X-WR-CALDESC:Events for Monterey Friends of CG Jung
REFRESH-INTERVAL;VALUE=DURATION:PT1H
X-Robots-Tag:noindex
X-PUBLISHED-TTL:PT1H
BEGIN:VTIMEZONE
TZID:America/Denver
BEGIN:DAYLIGHT
TZOFFSETFROM:-0700
TZOFFSETTO:-0600
TZNAME:MDT
DTSTART:20220313T090000
END:DAYLIGHT
BEGIN:STANDARD
TZOFFSETFROM:-0600
TZOFFSETTO:-0700
TZNAME:MST
DTSTART:20221106T080000
END:STANDARD
BEGIN:DAYLIGHT
TZOFFSETFROM:-0700
TZOFFSETTO:-0600
TZNAME:MDT
DTSTART:20230312T090000
END:DAYLIGHT
BEGIN:STANDARD
TZOFFSETFROM:-0600
TZOFFSETTO:-0700
TZNAME:MST
DTSTART:20231105T080000
END:STANDARD
BEGIN:DAYLIGHT
TZOFFSETFROM:-0700
TZOFFSETTO:-0600
TZNAME:MDT
DTSTART:20240310T090000
END:DAYLIGHT
BEGIN:STANDARD
TZOFFSETFROM:-0600
TZOFFSETTO:-0700
TZNAME:MST
DTSTART:20241103T080000
END:STANDARD
END:VTIMEZONE
BEGIN:VEVENT
DTSTART;TZID=America/Denver:20231005T190000
DTEND;TZID=America/Denver:20231005T190000
DTSTAMP:20260422T114020
CREATED:20230826T164603Z
LAST-MODIFIED:20230826T164603Z
UID:2482-1696532400-1696532400@jungmonterey.org
SUMMARY:The Sound of Dreams: Experimental Audio Dream-Sculpting
DESCRIPTION:Tonight\, the theatrical dream interpretation workshop we have previously shared as “Dream-Sculpting” is back with a twist: Dreams will be brought to life using sound only.\nParticipants will narrate and stage dreams using sound-making props. On the flip side\, audience members will be kept in the dark\, literally. Looking away from the stage\, they’ll be seeking out oneirical echoes\, recollecting and re-imagining through auditory clues. It’s not about seeing-to-believe\, but rather hearing-to-explore new dreamscapes—one sound at a time. \nSo\, bring a dream or dream segment that you would like to have anonymously adapted with the sound-making props of your choice.  \nThis experimental session will be audio-recorded.
URL:http://jungmonterey.org/event/the-sound-of-dreams-experimental-audio-dream-sculpting-2/
END:VEVENT
BEGIN:VEVENT
DTSTART;TZID=America/Denver:20231012T190000
DTEND;TZID=America/Denver:20231012T190000
DTSTAMP:20260422T114020
CREATED:20230826T164605Z
LAST-MODIFIED:20230826T164605Z
UID:2483-1697137200-1697137200@jungmonterey.org
SUMMARY:The Earth Has a Soul: Jung on Nature\, Technology & Modern Life
DESCRIPTION:Our monthly discussions are focused by the acute awareness of our deepening planetary crisis\, while consulting Jung for such insights as “Nature\, psyche\, and life appear to me like divinity unfolded—what more could I ask for?”
URL:http://jungmonterey.org/event/the-earth-has-a-soul-jung-on-nature-technology-modern-life-6/
END:VEVENT
BEGIN:VEVENT
DTSTART;TZID=America/Denver:20231019T190000
DTEND;TZID=America/Denver:20231019T190000
DTSTAMP:20260422T114020
CREATED:20230826T164605Z
LAST-MODIFIED:20230826T164605Z
UID:2484-1697742000-1697742000@jungmonterey.org
SUMMARY:Schopenhauer\, the Will—with Eileen Murphy
DESCRIPTION:As psychologist of the Will\, Arthur Schopenhauer (1788–1860) is the father of all modern psychology. As a teenager Jung was attracted to the philosophy of Schopenhauer for his being “the first to speak about the suffering and evil in the world.” Jung says\, “Here was a philosopher who had the courage to see the fundamental flaw that underlay the sorrowful course of human history. Schopenhauer’s somber picture of the world had my undivided approval.” One can see the influence of Schopenhauer’s thought on Freud’s notion of the Id\, and on others including Nietzsche\, Wagner\, Tolstoy\, Kafka… so many. Jung himself acclaimed Schopenhauer as the first Western philosopher to “discover” the unconscious as the ultimate principle of being and the hidden source of all human motivation—the Will to Live and to reproduce. The intellect\, sex organs\, emotions are blind servants of the Will. Tonight\, I will outline his thinking and leave time to discuss the consequences of his thought for all of us.
URL:http://jungmonterey.org/event/schopenhauer-the-will-with-eileen-murphy-2/
END:VEVENT
BEGIN:VEVENT
DTSTART;TZID=America/Denver:20231026T190000
DTEND;TZID=America/Denver:20231026T190000
DTSTAMP:20260422T114020
CREATED:20230826T164606Z
LAST-MODIFIED:20230826T164606Z
UID:2485-1698346800-1698346800@jungmonterey.org
SUMMARY:Projection and Re-Collection in Jungian Psychology: Reflections of the Soul by Marie-Louise von Franz
DESCRIPTION:Projection is flagrant in American culture. What is projection? What happens when we become aware of our projections\, individual and collective?  \nThis trimester\, we will finish the last sections of Chapter 3 (“Energy and Field of Force\,” “Psyche and Matter”) and take up Chapter 4: “The Hypothesis of the Collective Unconscious.”
URL:http://jungmonterey.org/event/projection-and-re-collection-in-jungian-psychology-reflections-of-the-soul-by-marie-louise-von-franz-5/
END:VEVENT
END:VCALENDAR