BEGIN:VCALENDAR
VERSION:2.0
PRODID:-//Monterey Friends of CG Jung - ECPv6.15.13//NONSGML v1.0//EN
CALSCALE:GREGORIAN
METHOD:PUBLISH
X-WR-CALNAME:Monterey Friends of CG Jung
X-ORIGINAL-URL:http://jungmonterey.org
X-WR-CALDESC:Events for Monterey Friends of CG Jung
REFRESH-INTERVAL;VALUE=DURATION:PT1H
X-Robots-Tag:noindex
X-PUBLISHED-TTL:PT1H
BEGIN:VTIMEZONE
TZID:America/Denver
BEGIN:DAYLIGHT
TZOFFSETFROM:-0700
TZOFFSETTO:-0600
TZNAME:MDT
DTSTART:20230312T090000
END:DAYLIGHT
BEGIN:STANDARD
TZOFFSETFROM:-0600
TZOFFSETTO:-0700
TZNAME:MST
DTSTART:20231105T080000
END:STANDARD
BEGIN:DAYLIGHT
TZOFFSETFROM:-0700
TZOFFSETTO:-0600
TZNAME:MDT
DTSTART:20240310T090000
END:DAYLIGHT
BEGIN:STANDARD
TZOFFSETFROM:-0600
TZOFFSETTO:-0700
TZNAME:MST
DTSTART:20241103T080000
END:STANDARD
BEGIN:DAYLIGHT
TZOFFSETFROM:-0700
TZOFFSETTO:-0600
TZNAME:MDT
DTSTART:20250309T090000
END:DAYLIGHT
BEGIN:STANDARD
TZOFFSETFROM:-0600
TZOFFSETTO:-0700
TZNAME:MST
DTSTART:20251102T080000
END:STANDARD
END:VTIMEZONE
BEGIN:VEVENT
DTSTART;TZID=America/Denver:20240307T190000
DTEND;TZID=America/Denver:20240307T210000
DTSTAMP:20260422T034348
CREATED:20240102T040618Z
LAST-MODIFIED:20240102T040618Z
UID:2552-1709838000-1709845200@jungmonterey.org
SUMMARY:Musing on History and Jung—with Bob Strayer\, PhD
DESCRIPTION:Carl Jung was\, among many other things\, an historian. His distinctive approach to the human past involved the application of concepts such as the collective unconscious\, archetypal patterns\, and individuation to particular events or processes including the spread of Christianity\, the European Renaissance\, and the World Wars. It is also interesting to ponder how Jung’s historical analysis compares with that of contemporary academic historians. In what ways do they overlap or bear similarities to one another? And in what ways might modern historians find Jungian understandings inadequate or limited? \nRobert Strayer\, PhD in European and African History\, has taught at SUNY: Brockport\, University of Canterbury in New Zealand\, UCSC\, CSU Monterey Bay\, and Cabrillo College. He has received awards for excellence in both teaching and scholarship. His published works include books on African\, Soviet\, and world history. He is the lead author of Ways of the World: A Brief Global History\, widely used in college and AP courses.
URL:http://jungmonterey.org/event/musing-on-history-and-jung-with-bob-strayer-phd/
END:VEVENT
BEGIN:VEVENT
DTSTART;TZID=America/Denver:20240314T190000
DTEND;TZID=America/Denver:20240314T210000
DTSTAMP:20260422T034348
CREATED:20240102T040710Z
LAST-MODIFIED:20240102T040710Z
UID:2554-1710442800-1710450000@jungmonterey.org
SUMMARY:The Earth Has a Soul: Jung on Nature\, Technology & Modern Life
DESCRIPTION:Given our inescapable awareness that the environmental crisis on Earth is deepening\, we continue to consult Jung for his insights concerning Anima Mundi\, the soul of the world. As he writes: “Nature\, psyche\, and life appear to me like divinity unfolded—what more could I ask for?”
URL:http://jungmonterey.org/event/the-earth-has-a-soul-jung-on-nature-technology-modern-life-10/
END:VEVENT
BEGIN:VEVENT
DTSTART;TZID=America/Denver:20240321T190000
DTEND;TZID=America/Denver:20240321T210000
DTSTAMP:20260422T034348
CREATED:20240102T040803Z
LAST-MODIFIED:20240102T040803Z
UID:2556-1711047600-1711054800@jungmonterey.org
SUMMARY:Monterey Friends of CG Jung Board meeting
DESCRIPTION:
URL:http://jungmonterey.org/event/monterey-friends-of-cg-jung-board-meeting-3/
END:VEVENT
BEGIN:VEVENT
DTSTART;TZID=America/Denver:20240328T190000
DTEND;TZID=America/Denver:20240328T210000
DTSTAMP:20260422T034348
CREATED:20240102T040900Z
LAST-MODIFIED:20240102T040900Z
UID:2558-1711652400-1711659600@jungmonterey.org
SUMMARY:Projection and Re-Collection in Jungian Psychology: Reflections of the Soul  by Marie-Louise von Franz
DESCRIPTION:What is projection? What happens when we become aware of our projections\, individual and collective?  \nWe will dive into Chapter 4\, “The Hypothesis of the Collective Unconscious\,” perhaps the most exciting chapter so far. Von Franz both distills and elaborates the ancient and now unconventional idea—anima mundi\, world soul—referring to Jung’s exposition of its mythological underpinnings. What is the evidence here for the collective unconscious? How can we understand its nuances and paradoxes?
URL:http://jungmonterey.org/event/projection-and-re-collection-in-jungian-psychology-reflections-of-the-soul-by-marie-louise-von-franz-8/
END:VEVENT
END:VCALENDAR