BEGIN:VCALENDAR
VERSION:2.0
PRODID:-//Monterey Friends of CG Jung - ECPv6.15.13//NONSGML v1.0//EN
CALSCALE:GREGORIAN
METHOD:PUBLISH
X-WR-CALNAME:Monterey Friends of CG Jung
X-ORIGINAL-URL:http://jungmonterey.org
X-WR-CALDESC:Events for Monterey Friends of CG Jung
REFRESH-INTERVAL;VALUE=DURATION:PT1H
X-Robots-Tag:noindex
X-PUBLISHED-TTL:PT1H
BEGIN:VTIMEZONE
TZID:America/Denver
BEGIN:DAYLIGHT
TZOFFSETFROM:-0700
TZOFFSETTO:-0600
TZNAME:MDT
DTSTART:20230312T090000
END:DAYLIGHT
BEGIN:STANDARD
TZOFFSETFROM:-0600
TZOFFSETTO:-0700
TZNAME:MST
DTSTART:20231105T080000
END:STANDARD
BEGIN:DAYLIGHT
TZOFFSETFROM:-0700
TZOFFSETTO:-0600
TZNAME:MDT
DTSTART:20240310T090000
END:DAYLIGHT
BEGIN:STANDARD
TZOFFSETFROM:-0600
TZOFFSETTO:-0700
TZNAME:MST
DTSTART:20241103T080000
END:STANDARD
BEGIN:DAYLIGHT
TZOFFSETFROM:-0700
TZOFFSETTO:-0600
TZNAME:MDT
DTSTART:20250309T090000
END:DAYLIGHT
BEGIN:STANDARD
TZOFFSETFROM:-0600
TZOFFSETTO:-0700
TZNAME:MST
DTSTART:20251102T080000
END:STANDARD
END:VTIMEZONE
BEGIN:VEVENT
DTSTART;TZID=America/Denver:20240801T190000
DTEND;TZID=America/Denver:20240801T210000
DTSTAMP:20260421T193925
CREATED:20240518T044447Z
LAST-MODIFIED:20240518T044447Z
UID:2639-1722538800-1722546000@jungmonterey.org
SUMMARY:Death\, the Concept —with Eileen Murphy\, MD
DESCRIPTION:My presentation is on the concept death and the various ways Western philosophers\, artists and\, more recently\, AI researchers have explored it. The idea of death has been trending. Many people are convinced that with the inevitable merging of humans with Artificial Intelligence\, a superhuman creature who is deathless will come to be. No more death! This shocking possibility is muted about due largely to Ray Kurzweil who wrote an influential book\, The Singularity Is Near\, in 2005. He is a notable futurist and principal AI researcher at Google. In his book he predicted that within 50 years the “human-machine” creature would be sufficiently advanced to overcome death. His recent predictions of the stages leading to the goal have been highly accurate. Is this desirable? In literature\, opera and other arts the answer has often been “NO!” But it was never more than a mind-experiment. Now it seems to be a tangible possibility. \n\nIn the lead-up to discussion\, I will start with Socrates\, the Stoics\, the Existentialists with emphasis on Heidegger… and then sketch the progress on creating\, in Kurzweil’s words\, a “human-machine” chimera.
URL:http://jungmonterey.org/event/death-the-concept-with-eileen-murphy-md/
END:VEVENT
BEGIN:VEVENT
DTSTART;TZID=America/Denver:20240808T190000
DTEND;TZID=America/Denver:20240808T210000
DTSTAMP:20260421T193925
CREATED:20240518T044554Z
LAST-MODIFIED:20240518T044554Z
UID:2641-1723143600-1723150800@jungmonterey.org
SUMMARY:Jung on Personality—Talk-Circle
DESCRIPTION:Tonight\, all are invited to share our various points of view about human personality. Many powers are converging to mutilate—but also to enhance the development of—our personalities. What is the meaning of an authentic\, genuine\, human personality? Is this question being raised in Silicon Valley C-suites? \n\nThe achievement of personality means nothing less than the optimum development of the whole individual human being. It is impossible to foresee the endless variety of conditions that have to be fulfilled. A whole lifetime\, in all its biological\, social\, and spiritual aspects\, is needed. Personality is the supreme realization of the innate idiosyncrasy of a living being. It is an act of high courage flung in the face of life\, the absolute affirmation of all that constitutes the individual\, the most successful adaptation to the universal conditions of existence coupled with the greatest possible freedom for self-determination. —CGJ CW17 para 289
URL:http://jungmonterey.org/event/jung-on-personality-talk-circle/
END:VEVENT
BEGIN:VEVENT
DTSTART;TZID=America/Denver:20240815T190000
DTEND;TZID=America/Denver:20240815T210000
DTSTAMP:20260421T193925
CREATED:20240518T044639Z
LAST-MODIFIED:20240518T044639Z
UID:2643-1723748400-1723755600@jungmonterey.org
SUMMARY:The Meaning of Meaning: Jung\, Jaffé\, and Bohm
DESCRIPTION:What do we mean by meaning? Such as\, the meaning of being\, as we take it up in our weekly dialogues. \nThe lack of meaning in life is a soul-sickness whose full extent and full important our age has not as yet begun to comprehend. // A psychoneurosis must be understood\, ultimately\, as the suffering of a soul which has not discovered its meaning. —CGJ CW8 para815 // CW11 para 497 \n“Meaning” is an archetype… Every statement about meaning\, whether it be an hypothesis or a confession of faith\, is a myth\, a product partly of consciousness and partly of the unconscious.       —Aniela Jaffé\, The Myth of Meaning\, p148 \nThe awakening of the process of dialogue itself as a free flow of meaning among all the participants…. A new kind of mind thus begins to come into being which is based on the development of a common meaning that is constantly transforming in the process of the dialogue. People are no longer primarily in opposition\, nor can they be said to be interacting\, rather they are participating in this pool of common meaning which is capable of constant development and change. —David Bohm Unfolding Meaning\, p175
URL:http://jungmonterey.org/event/the-meaning-of-meaning-jung-jaffe-and-bohm/
END:VEVENT
BEGIN:VEVENT
DTSTART;TZID=America/Denver:20240822T190000
DTEND;TZID=America/Denver:20240822T210000
DTSTAMP:20260421T193925
CREATED:20240518T044747Z
LAST-MODIFIED:20240518T044747Z
UID:2645-1724353200-1724360400@jungmonterey.org
SUMMARY:Projection and Re-Collection in Jungian Psychology: Reflections of the Soul  by Marie-Louise von Franz
DESCRIPTION:What is projection? What happens when we become aware of our projections\, individual and collective? \nWe will take up chapters 5 and 6 on demons and daimons to understand how they relate to complexes and to “spirits.”  In chapter 6\, we will look into the tale of Eros and Psyche\, so we will take a side journey specifically into that story. These chapters will then lead into some deep Hermeticism. Buckle up!
URL:http://jungmonterey.org/event/projection-and-re-collection-in-jungian-psychology-reflections-of-the-soul-by-marie-louise-von-franz-11/
END:VEVENT
BEGIN:VEVENT
DTSTART;TZID=America/Denver:20240829T190000
DTEND;TZID=America/Denver:20240829T210000
DTSTAMP:20260421T193925
CREATED:20240518T044847Z
LAST-MODIFIED:20240518T044847Z
UID:2647-1724958000-1724965200@jungmonterey.org
SUMMARY:WHAT DID THE THUNDER SAY?—with Elizabeth Wrightman and John Dotson
DESCRIPTION:In a duo-exhibition\, Elizabeth will show paintings and John will show sculptures at the Pacific Grove Art Center from September 6 through October 24—under the title\, WHAT DID THE THUNDER SAY? \n\nIn the Book of Revelation [tr. David Bentley Hart]: \n\n…a mighty angel…cried out in a loud voice\, like a lion roaring… and the seven peals of thunder spoke out in their own voices. … a voice out of heaven saying\, “Place a seal on the things the seven peals of thunder spoke\, and do not write them.” \n\nJames Joyce\, in Finnegans Wake writes of a “…brontoichthyan form… Bronte\, “thunder”; ichthys\, “fish”: thunder-fish.” Joyce presents thunderwords—the first nine of 100 letters each\, the last of 101\, for a total of 1\,001. Marshall McLuhan notes: \n\nThere are ten thunders in the Wake. Each is a cryptogram or codified explanation of the thundering and reverberating consequences of the major technological changes in all human history. When a tribal man hears thunder\, he says\, “What did he say that time?’” as automatically as we say “Gesundheit.” \n[Art file with caption:} “The great hole where the river sank underground and he even brought me to a deep pool and told me that many fish came up out of the dark water early in the morning.” ~W B Yeats
URL:http://jungmonterey.org/event/what-did-the-thunder-say-with-elizabeth-wrightman-and-john-dotson/
END:VEVENT
END:VCALENDAR