BEGIN:VCALENDAR
VERSION:2.0
PRODID:-//Monterey Friends of CG Jung - ECPv6.15.13//NONSGML v1.0//EN
CALSCALE:GREGORIAN
METHOD:PUBLISH
X-ORIGINAL-URL:http://jungmonterey.org
X-WR-CALDESC:Events for Monterey Friends of CG Jung
REFRESH-INTERVAL;VALUE=DURATION:PT1H
X-Robots-Tag:noindex
X-PUBLISHED-TTL:PT1H
BEGIN:VTIMEZONE
TZID:America/Denver
BEGIN:DAYLIGHT
TZOFFSETFROM:-0700
TZOFFSETTO:-0600
TZNAME:MDT
DTSTART:20240310T090000
END:DAYLIGHT
BEGIN:STANDARD
TZOFFSETFROM:-0600
TZOFFSETTO:-0700
TZNAME:MST
DTSTART:20241103T080000
END:STANDARD
BEGIN:DAYLIGHT
TZOFFSETFROM:-0700
TZOFFSETTO:-0600
TZNAME:MDT
DTSTART:20250309T090000
END:DAYLIGHT
BEGIN:STANDARD
TZOFFSETFROM:-0600
TZOFFSETTO:-0700
TZNAME:MST
DTSTART:20251102T080000
END:STANDARD
BEGIN:DAYLIGHT
TZOFFSETFROM:-0700
TZOFFSETTO:-0600
TZNAME:MDT
DTSTART:20260308T090000
END:DAYLIGHT
BEGIN:STANDARD
TZOFFSETFROM:-0600
TZOFFSETTO:-0700
TZNAME:MST
DTSTART:20261101T080000
END:STANDARD
END:VTIMEZONE
BEGIN:VEVENT
DTSTART;TZID=America/Denver:20250116T190000
DTEND;TZID=America/Denver:20250116T210000
DTSTAMP:20260421T114726
CREATED:20250116T150706Z
LAST-MODIFIED:20250116T150706Z
UID:2667-1737054000-1737061200@jungmonterey.org
SUMMARY:Reclaiming the Soul: A Map for Our Time—with Eva Rider
DESCRIPTION:This presentation and discussion will explore the three triangles in Hermetic Kabbalah linking Cosmos\, Psyche/Soul and Matter/Body/Earth as a map to finding meaning in the epoch-changing times we navigate. \n\nWhether we like it or not\, one of our tasks on this earth is to work with the opposites through different levels of consciousness until body\, soul and spirit resonate together. — Marion Woodman \n  \nEva Rider is a seasoned Jungian depth psychotherapist\, workshop leader\, and presenter with 30 years of experience in private practice. An accomplished educator\, Eva has taught both in-person and online courses internationally\, presents at Jungian groups and currently serves as a tutor for the Jung Institute in Küsnacht. She is a graduate of McGill University and John F. Kennedy University\, where she also contributed as an adjunct instructor. Eva trained extensively with Marion Woodman and completed the BodySoul Rhythms® Leadership Training. She has served on the Advisory Board of the Depth Psychology Alliance and holds certifications as a Hypnotherapist and TRE® practitioner. Integrating dreamwork\, astrology\, tarot\, fairy tales\, myth\, poetry\, music\, and movement\, Eva’s work is rooted in psyche-soma synthesis\, as revealed through the Hermetic Tree of Life. \n 
URL:http://jungmonterey.org/event/reclaiming-the-soul-a-map-for-our-time-with-eva-rider/
LOCATION:McGowan House Center\, 381 High St\, Monterey\, CA\, 93940\, United States
END:VEVENT
BEGIN:VEVENT
DTSTART;TZID=America/Denver:20250123T190000
DTEND;TZID=America/Denver:20250123T210000
DTSTAMP:20260421T114726
CREATED:20250116T150842Z
LAST-MODIFIED:20250116T150842Z
UID:2669-1737658800-1737666000@jungmonterey.org
SUMMARY:Projection and Re-Collection in Jungian Psychology: Reflections of the Soul  by Marie-Louise von Franz
DESCRIPTION:What is projection? What happens when we become aware of our projections\, individual and collective? \nWe will take up chapters 5 and 6 on demons and daimons to understand how they relate to complexes and to “spirits.”  In chapter 6\, we will look into the tale of Eros and Psyche\, so we will take a side journey specifically into that story. These chapters will then lead into some deep Hermeticism. Buckle up!
URL:http://jungmonterey.org/event/projection-and-re-collection-in-jungian-psychology-reflections-of-the-soul-by-marie-louise-von-franz-12/
LOCATION:McGowan House Center\, 381 High St\, Monterey\, CA\, 93940\, United States
END:VEVENT
BEGIN:VEVENT
DTSTART;TZID=America/Denver:20250130T190000
DTEND;TZID=America/Denver:20250130T210000
DTSTAMP:20260421T114726
CREATED:20250116T151006Z
LAST-MODIFIED:20250116T151006Z
UID:2671-1738263600-1738270800@jungmonterey.org
SUMMARY:The Fabric of Misinformation -with Gregory Brun
DESCRIPTION:We live in a world flooded with information\, yet true understanding feels more out of reach than ever. This evening\, we’ll explore how the way we consume information came to shape our view of the world. Drawing from Guy Debord’s idea of the Society of the Spectacle\, and Baudrillard’s concept of hyperreality\, we’ll look at how we arrived at today’s digital bubbles\, viral hoaxes\, and fragmented realities. \nGregory Brun of Ashland Symposia and John Dotson\, president of the Monterey Friends of CG Jung\, will engage in a dialogue exploring the evolution of our information landscape. The conversation will be followed by an open forum for participants to share their reflections.
URL:http://jungmonterey.org/event/the-fabric-of-misinformation-with-gregory-brun/
END:VEVENT
END:VCALENDAR